BEGIN:VCALENDAR
VERSION:2.0
PRODID:icalendar-ruby
CALSCALE:GREGORIAN
X-WR-TIMEZONE:Europe/Helsinki
BEGIN:VTIMEZONE
TZID:Europe/Helsinki
BEGIN:DAYLIGHT
DTSTART:20260329T040000
TZOFFSETFROM:+0200
TZOFFSETTO:+0300
RRULE:FREQ=YEARLY;BYDAY=-1SU;BYMONTH=3
TZNAME:EEST
END:DAYLIGHT
BEGIN:STANDARD
DTSTART:20261025T030000
TZOFFSETFROM:+0300
TZOFFSETTO:+0200
RRULE:FREQ=YEARLY;BYDAY=-1SU;BYMONTH=10
TZNAME:EET
END:STANDARD
END:VTIMEZONE
BEGIN:VEVENT
DTSTAMP:20260420T013224
UID:jalas.myclub.fi-10588420
DTSTART;TZID=Europe/Helsinki:20260422T170000
DTEND;TZID=Europe/Helsinki:20260422T180000
DESCRIPTION:Kouluikäisten suunnistuskoulu joka 2. viikko keskiviikkoisin i
 ltarastien yhteydessä klo 17-18. Suunnistuskoulun kokoontumisia yhteensä
  5 kertaa. Tämän kerran kokoontuminen Kirkonkylän alakoulun välituntip
 ihalle.\nKäymme läpi suunnistuksen perusteita yhdessä tehden ja liikkue
 n. Opettelemme karttamerkkejä\, kartan lukemista ja liikumme yhdessä ja 
 erikseen erilaisia harjoituksia tehden. Osa harjoituksista tehdään omato
 imisesti tai pienissä ryhmissä. Nuorimmat osallistujat tarvitsevat oman 
 aikuisen mukaan avustamaan.\nSuunnistuskoulun jälkeen mahdollisuus kiert
 ää iltarasteja oman aikuisen kanssa.\nMukaan sään mukaiset ulkona liik
 kumiseen sopivat vaatteet\, vesipullo ja iloista reippailumieltä.\nSuunni
 stuskoulun pääohjaajina toimivat Heidi Pihlajaviita ja Mari Harju sekä 
 osalla kerroista myös muita ohjaajia.\n\nhttps://jalas.myclub.fi/flow/eve
 nts/10588420
LOCATION:Jalasjärven koulukeskus\, Kynttilänkuja 2\, 61600 JALASJÄRVI
SEQUENCE:0
SUMMARY:Suunnistus: Kouluikäisten suunnistuskoulu
URL;VALUE=URI:https://jalas.myclub.fi/flow/events/10588420
END:VEVENT
END:VCALENDAR
